BEGIN:VCALENDAR
VERSION:2.0
PRODID:-//LAG OKJA - ECPv6.15.18//NONSGML v1.0//EN
CALSCALE:GREGORIAN
METHOD:PUBLISH
X-ORIGINAL-URL:https://www.jugendarbeit-niedersachsen.de
X-WR-CALDESC:Veranstaltungen für LAG OKJA
REFRESH-INTERVAL;VALUE=DURATION:PT1H
X-Robots-Tag:noindex
X-PUBLISHED-TTL:PT1H
BEGIN:VTIMEZONE
TZID:Europe/Berlin
BEGIN:DAYLIGHT
TZOFFSETFROM:+0100
TZOFFSETTO:+0200
TZNAME:CEST
DTSTART:20250330T010000
END:DAYLIGHT
BEGIN:STANDARD
TZOFFSETFROM:+0200
TZOFFSETTO:+0100
TZNAME:CET
DTSTART:20251026T010000
END:STANDARD
BEGIN:DAYLIGHT
TZOFFSETFROM:+0100
TZOFFSETTO:+0200
TZNAME:CEST
DTSTART:20260329T010000
END:DAYLIGHT
BEGIN:STANDARD
TZOFFSETFROM:+0200
TZOFFSETTO:+0100
TZNAME:CET
DTSTART:20261025T010000
END:STANDARD
BEGIN:DAYLIGHT
TZOFFSETFROM:+0100
TZOFFSETTO:+0200
TZNAME:CEST
DTSTART:20270328T010000
END:DAYLIGHT
BEGIN:STANDARD
TZOFFSETFROM:+0200
TZOFFSETTO:+0100
TZNAME:CET
DTSTART:20271031T010000
END:STANDARD
END:VTIMEZONE
BEGIN:VEVENT
DTSTART;TZID=Europe/Berlin:20261209T110000
DTEND;TZID=Europe/Berlin:20261209T120000
DTSTAMP:20260426T052731
CREATED:20250807T062420Z
LAST-MODIFIED:20260112T150627Z
UID:2959-1796814000-1796817600@www.jugendarbeit-niedersachsen.de
SUMMARY:Pädagogischer Stammtisch
DESCRIPTION:Dieses Austauschformat wird angeboten von der LAG OKJA in Zusammenarbeit mit dem niedersächsischen Landesjugendamt. \n\n\nWir laden pädagogische Fachkräfte zu einem Austausch über die alltäglichen pädagogischen Herausforderungen in der Jugendarbeit ein.\nWir bieten die Möglichkeit der kollegialen Beratung von einzelnen Anliegen.\nWir profitieren von den Erfahrungen der Anderen.\nWir entdecken Gemeinsamkeiten und entwickeln positive Handlungsschritte.\n\nhttps://us06web.zoom.us/j/84132625406?pwd=8cazkybiwgLNpbGVq7TM9TR6HhNGUS.1 \nMeeting-ID: 841 3262 5406\nKenncode: 414040
URL:https://www.jugendarbeit-niedersachsen.de/event/paedagogischer-stammtisch-10/
LOCATION:ZOOM
END:VEVENT
BEGIN:VEVENT
DTSTART;TZID=Europe/Berlin:20261217T130000
DTEND;TZID=Europe/Berlin:20261217T143000
DTSTAMP:20260426T052731
CREATED:20260108T132153Z
LAST-MODIFIED:20260108T133613Z
UID:3143-1797512400-1797517800@www.jugendarbeit-niedersachsen.de
SUMMARY:Netzwerk kommunale Jugendbeteiligung
DESCRIPTION:Um Kommunen beim Aufbau von Kinder- und Jugendbeteiligunsgmöglichkeiten zu unterstützen\, hat sich im August 2025 das Netzwerk kommunale Jugendbeteiligung gegründet. Dieses trifft sich online an jedem 3. Donnerstag eines Monats von 13:00 bis 14:30 Uhr. \nNeben thematischen Impulsen und die Beratung konkreter Fragestellungen durch die Mitarbeiter*innen der Fachstelle und weitere Expert*innen\, besteht bei den Treffen die Gelegenheit zum kollegialen Austausch. \nTeilnehmen können sowohl pädagogische Fachkräfte als auch mit dem Thema betraute Mitarbeiter*innen aus den Verwaltungen sowie alle an der Thematik Interessierten. Ein Einstieg ins Netzwerk ist zu jedem beliebigen Zeitpunkt möglich. \nDie wiederkehrenden Zugangsdaten lauten:\nhttps://us06web.zoom.us/j/82480747255?pwd=Cso2DeYRTspRonCC2Cqk7GfAzybVjG.1\nMeeting-ID: 824 8074 7255\nKenncode: 788495
URL:https://www.jugendarbeit-niedersachsen.de/event/netzwerk-kommunale-jugendbeteiligung-16/
END:VEVENT
END:VCALENDAR