BEGIN:VCALENDAR
VERSION:2.0
PRODID:-//LAG OKJA - ECPv6.15.18//NONSGML v1.0//EN
CALSCALE:GREGORIAN
METHOD:PUBLISH
X-WR-CALNAME:LAG OKJA
X-ORIGINAL-URL:https://www.jugendarbeit-niedersachsen.de
X-WR-CALDESC:Veranstaltungen für LAG OKJA
REFRESH-INTERVAL;VALUE=DURATION:PT1H
X-Robots-Tag:noindex
X-PUBLISHED-TTL:PT1H
BEGIN:VTIMEZONE
TZID:Europe/Berlin
BEGIN:DAYLIGHT
TZOFFSETFROM:+0100
TZOFFSETTO:+0200
TZNAME:CEST
DTSTART:20250330T010000
END:DAYLIGHT
BEGIN:STANDARD
TZOFFSETFROM:+0200
TZOFFSETTO:+0100
TZNAME:CET
DTSTART:20251026T010000
END:STANDARD
BEGIN:DAYLIGHT
TZOFFSETFROM:+0100
TZOFFSETTO:+0200
TZNAME:CEST
DTSTART:20260329T010000
END:DAYLIGHT
BEGIN:STANDARD
TZOFFSETFROM:+0200
TZOFFSETTO:+0100
TZNAME:CET
DTSTART:20261025T010000
END:STANDARD
BEGIN:DAYLIGHT
TZOFFSETFROM:+0100
TZOFFSETTO:+0200
TZNAME:CEST
DTSTART:20270328T010000
END:DAYLIGHT
BEGIN:STANDARD
TZOFFSETFROM:+0200
TZOFFSETTO:+0100
TZNAME:CET
DTSTART:20271031T010000
END:STANDARD
END:VTIMEZONE
BEGIN:VEVENT
DTSTART;TZID=Europe/Berlin:20261103T103000
DTEND;TZID=Europe/Berlin:20261103T123000
DTSTAMP:20260426T040805
CREATED:20250807T063420Z
LAST-MODIFIED:20250807T063420Z
UID:2975-1793701800-1793709000@www.jugendarbeit-niedersachsen.de
SUMMARY:GEBe Netzwerk Niedersachen
DESCRIPTION:Die Treffen des GEBe Netzwerk Niedersachsen bietet die Möglichkeit sich zur Anwendung der GEBe Methode auszutauschen\, kollegiale Beratung zu erhalten oder andere Themen der Kinder- und Jugendbeteiligung zu besprechen. \nhttps://us06web.zoom.us/j/88140135467?pwd=blNOWmlJa1I2d25yZXV4elZnSHJDQT09 \nMeeting-ID: 881 4013 5467\nKenncode: 171314
URL:https://www.jugendarbeit-niedersachsen.de/event/gebe-netzwerk-niedersachen/
LOCATION:ZOOM
ORGANIZER;CN="Fachstelle Kinder- und Jugendbeteiligung Niedersachsen":MAILTO:info@lag-okja.de
END:VEVENT
BEGIN:VEVENT
DTSTART;TZID=Europe/Berlin:20261119T130000
DTEND;TZID=Europe/Berlin:20261119T143000
DTSTAMP:20260426T040805
CREATED:20260108T133511Z
LAST-MODIFIED:20260108T133511Z
UID:3152-1795093200-1795098600@www.jugendarbeit-niedersachsen.de
SUMMARY:Netzwerk kommunale Jugendbeteiligung
DESCRIPTION:Um Kommunen beim Aufbau von Kinder- und Jugendbeteiligunsgmöglichkeiten zu unterstützen\, hat sich im August 2025 das Netzwerk kommunale Jugendbeteiligung gegründet. Dieses trifft sich online an jedem 3. Donnerstag eines Monats von 13:00 bis 14:30 Uhr. \nNeben thematischen Impulsen und die Beratung konkreter Fragestellungen durch die Mitarbeiter*innen der Fachstelle und weitere Expert*innen\, besteht bei den Treffen die Gelegenheit zum kollegialen Austausch. \nTeilnehmen können sowohl pädagogische Fachkräfte als auch mit dem Thema betraute Mitarbeiter*innen aus den Verwaltungen sowie alle an der Thematik Interessierten. Ein Einstieg ins Netzwerk ist zu jedem beliebigen Zeitpunkt möglich. \nDie wiederkehrenden Zugangsdaten lauten:\nhttps://us06web.zoom.us/j/82480747255?pwd=Cso2DeYRTspRonCC2Cqk7GfAzybVjG.1\nMeeting-ID: 824 8074 7255\nKenncode: 788495
URL:https://www.jugendarbeit-niedersachsen.de/event/netzwerk-kommunale-jugendbeteiligung-15/
END:VEVENT
BEGIN:VEVENT
DTSTART;TZID=Europe/Berlin:20261124T110000
DTEND;TZID=Europe/Berlin:20261124T130000
DTSTAMP:20260426T040805
CREATED:20251020T131758Z
LAST-MODIFIED:20260408T143409Z
UID:3058-1795518000-1795525200@www.jugendarbeit-niedersachsen.de
SUMMARY:31. landesweiter Fachaustausch der LAG OKJA Niedersachsen
DESCRIPTION:Dieses etablierte Format der LAG OKJA lädt alle Fachkräfte und Engagierte \nin der (Offenen) Kinder- und Jugendarbeit zum Austausch zu den aktuellen Themen im Arbeitsfeld\, in der Kommune und im Land Niedersachsen ein. \nHier werden Informationen weiter gegeben und aktuelle Herausforderungen diskutiert. \nAlle sind herzlich eingeladen. \nhttps://us06web.zoom.us/j/84556110292?pwd=VYvMWGUcBIUEtrFUGlRuHbeq7ihpLb.1 \nMeeting-ID: 845 5611 0292\nKenncode: 101344
URL:https://www.jugendarbeit-niedersachsen.de/event/31-landesweiter-fachaustausch-der-lag-okja-niedersachsen/
LOCATION:ZOOM
ORGANIZER;CN="LAG OKJA Niedersachsen":MAILTO:info@lag-okja.de
END:VEVENT
END:VCALENDAR