BEGIN:VCALENDAR
VERSION:2.0
PRODID:-//LAG OKJA - ECPv6.15.18//NONSGML v1.0//EN
CALSCALE:GREGORIAN
METHOD:PUBLISH
X-ORIGINAL-URL:https://www.jugendarbeit-niedersachsen.de
X-WR-CALDESC:Veranstaltungen für LAG OKJA
REFRESH-INTERVAL;VALUE=DURATION:PT1H
X-Robots-Tag:noindex
X-PUBLISHED-TTL:PT1H
BEGIN:VTIMEZONE
TZID:Europe/Berlin
BEGIN:DAYLIGHT
TZOFFSETFROM:+0100
TZOFFSETTO:+0200
TZNAME:CEST
DTSTART:20250330T010000
END:DAYLIGHT
BEGIN:STANDARD
TZOFFSETFROM:+0200
TZOFFSETTO:+0100
TZNAME:CET
DTSTART:20251026T010000
END:STANDARD
BEGIN:DAYLIGHT
TZOFFSETFROM:+0100
TZOFFSETTO:+0200
TZNAME:CEST
DTSTART:20260329T010000
END:DAYLIGHT
BEGIN:STANDARD
TZOFFSETFROM:+0200
TZOFFSETTO:+0100
TZNAME:CET
DTSTART:20261025T010000
END:STANDARD
BEGIN:DAYLIGHT
TZOFFSETFROM:+0100
TZOFFSETTO:+0200
TZNAME:CEST
DTSTART:20270328T010000
END:DAYLIGHT
BEGIN:STANDARD
TZOFFSETFROM:+0200
TZOFFSETTO:+0100
TZNAME:CET
DTSTART:20271031T010000
END:STANDARD
END:VTIMEZONE
BEGIN:VEVENT
DTSTART;TZID=Europe/Berlin:20261006T100000
DTEND;TZID=Europe/Berlin:20261006T120000
DTSTAMP:20260426T024431
CREATED:20250807T062759Z
LAST-MODIFIED:20250807T062759Z
UID:2965-1791280800-1791288000@www.jugendarbeit-niedersachsen.de
SUMMARY:AG Schutzkonzepte
DESCRIPTION:Wir treffen uns\, um uns über den Stand der jeweiligen Entwicklung von Schutzkonzepten in der eigenen Arbeit auszutauschen.\nDer Link:\nhttps://us06web.zoom.us/j/83528491330?pwd=BPAynQdm2GS6fGPUkCWTs5YdCwsSVu.1 \nMeeting-ID: 835 2849 1330\nKenncode: 072036 \nWeitere Infos zum Thema findest ihr hier auf der Homepage unter Service>Themen>AG Schutzkonzepte
URL:https://www.jugendarbeit-niedersachsen.de/event/ag-schutzkonzepte-8/
LOCATION:ZOOM
ORGANIZER;CN="LAG OKJA Niedersachsen":MAILTO:info@lag-okja.de
END:VEVENT
BEGIN:VEVENT
DTSTART;TZID=Europe/Berlin:20261006T100000
DTEND;TZID=Europe/Berlin:20261006T170000
DTSTAMP:20260426T024431
CREATED:20260320T154546Z
LAST-MODIFIED:20260320T154730Z
UID:3279-1791280800-1791306000@www.jugendarbeit-niedersachsen.de
SUMMARY:Gemeinsam auf den Weg machen – Eine Fortbildung zur inklusiven Kinder- und Jugendbeteiligung
DESCRIPTION:In dieser Fortbildung wollen wir uns der Frage nähern\, wie inklusive Kinder- und Jugendbeteiligung in der Offenen Kinder- und Jugendarbeit gelingen kann. Im Mittelpunkt steht dabei auf der einen Seite eine kritische und offene Auseinandersetzung mit der Frage\, was Inklusion auf der strukturellen\, insbesondere aber auch auf der individuellen Ebene bedeutet; auf der anderen Seite wird es ergänzend und aufbauend darauf um eine handlungspraktische und praxisnahe Einübung von inklusiven Beteiligungsmethoden gehen. \nReferenten: Bastian Pritsch\, staatl anerk. Sozialarbeiter und Moderator für Kinder- und Jugendbeteiligung\, und Tim Landfester\, staatl. anerk. Sozialarbeiter und Lehrbeauftragter an der Hochschule Hannover. \nOrt: Haus der Jugend Hannover\, Maschstraße 22-24\, 30169 Hannover\nTeilnahmegebühr: 25\,00 € inlusive Mittagessen und Getränke.
URL:https://www.jugendarbeit-niedersachsen.de/event/gemeinsam-auf-den-weg-machen-eine-fortbildung-zur-inklusiven-kinder-und-jugendbeteiligung/
LOCATION:Haus der Jugend Hannover\, Maschstraße 22-24\, Hannover\, Niedersachsen\, 30169\, Deutschland
ORGANIZER;CN="Fachstelle Kinder- und Jugendbeteiligung Niedersachsen":MAILTO:info@lag-okja.de
END:VEVENT
BEGIN:VEVENT
DTSTART;TZID=Europe/Berlin:20261007T180000
DTEND;TZID=Europe/Berlin:20261007T220000
DTSTAMP:20260426T024431
CREATED:20251020T132418Z
LAST-MODIFIED:20260226T090257Z
UID:3064-1791396000-1791410400@www.jugendarbeit-niedersachsen.de
SUMMARY:2. Parlamentarischer Abend der LAG OKJA Niedersachsen in Hannover
DESCRIPTION:Zum zweiten Mal laden wir herzlich alle Mitglieder und Interessierten der LAG OKJA zu einem Parlamentarischen Abend nach Hannover ein. \nDer Parlamentarische Abend ist ein Angebot an die Landespolitik um mit Praktiker*innen der OKJA ins Gespräch zu kommen. \nDie Veranstaltung findet kostenlos in Hannover statt und es gibt neben guten Gesprächen auch gutes Catering. \n 
URL:https://www.jugendarbeit-niedersachsen.de/event/save-the-date-fachtag-politik-und-jugendarbeit/
ORGANIZER;CN="LAG OKJA Niedersachsen":MAILTO:info@lag-okja.de
END:VEVENT
BEGIN:VEVENT
DTSTART;TZID=Europe/Berlin:20261015T130000
DTEND;TZID=Europe/Berlin:20261015T143000
DTSTAMP:20260426T024431
CREATED:20260108T133421Z
LAST-MODIFIED:20260108T133421Z
UID:3153-1792069200-1792074600@www.jugendarbeit-niedersachsen.de
SUMMARY:Netzwerk kommunale Jugendbeteiligung
DESCRIPTION:Um Kommunen beim Aufbau von Kinder- und Jugendbeteiligunsgmöglichkeiten zu unterstützen\, hat sich im August 2025 das Netzwerk kommunale Jugendbeteiligung gegründet. Dieses trifft sich online an jedem 3. Donnerstag eines Monats von 13:00 bis 14:30 Uhr. \nNeben thematischen Impulsen und die Beratung konkreter Fragestellungen durch die Mitarbeiter*innen der Fachstelle und weitere Expert*innen\, besteht bei den Treffen die Gelegenheit zum kollegialen Austausch. \nTeilnehmen können sowohl pädagogische Fachkräfte als auch mit dem Thema betraute Mitarbeiter*innen aus den Verwaltungen sowie alle an der Thematik Interessierten. Ein Einstieg ins Netzwerk ist zu jedem beliebigen Zeitpunkt möglich. \nDie wiederkehrenden Zugangsdaten lauten:\nhttps://us06web.zoom.us/j/82480747255?pwd=Cso2DeYRTspRonCC2Cqk7GfAzybVjG.1\nMeeting-ID: 824 8074 7255\nKenncode: 788495
URL:https://www.jugendarbeit-niedersachsen.de/event/netzwerk-kommunale-jugendbeteiligung-14/
END:VEVENT
END:VCALENDAR