BEGIN:VCALENDAR
VERSION:2.0
PRODID:-//LAG OKJA - ECPv6.15.18//NONSGML v1.0//EN
CALSCALE:GREGORIAN
METHOD:PUBLISH
X-WR-CALNAME:LAG OKJA
X-ORIGINAL-URL:https://www.jugendarbeit-niedersachsen.de
X-WR-CALDESC:Veranstaltungen für LAG OKJA
REFRESH-INTERVAL;VALUE=DURATION:PT1H
X-Robots-Tag:noindex
X-PUBLISHED-TTL:PT1H
BEGIN:VTIMEZONE
TZID:Europe/Berlin
BEGIN:DAYLIGHT
TZOFFSETFROM:+0100
TZOFFSETTO:+0200
TZNAME:CEST
DTSTART:20250330T010000
END:DAYLIGHT
BEGIN:STANDARD
TZOFFSETFROM:+0200
TZOFFSETTO:+0100
TZNAME:CET
DTSTART:20251026T010000
END:STANDARD
BEGIN:DAYLIGHT
TZOFFSETFROM:+0100
TZOFFSETTO:+0200
TZNAME:CEST
DTSTART:20260329T010000
END:DAYLIGHT
BEGIN:STANDARD
TZOFFSETFROM:+0200
TZOFFSETTO:+0100
TZNAME:CET
DTSTART:20261025T010000
END:STANDARD
BEGIN:DAYLIGHT
TZOFFSETFROM:+0100
TZOFFSETTO:+0200
TZNAME:CEST
DTSTART:20270328T010000
END:DAYLIGHT
BEGIN:STANDARD
TZOFFSETFROM:+0200
TZOFFSETTO:+0100
TZNAME:CET
DTSTART:20271031T010000
END:STANDARD
END:VTIMEZONE
BEGIN:VEVENT
DTSTART;TZID=Europe/Berlin:20260603T110000
DTEND;TZID=Europe/Berlin:20260603T130000
DTSTAMP:20260425T212121
CREATED:20251020T131548Z
LAST-MODIFIED:20260112T150308Z
UID:3054-1780484400-1780491600@www.jugendarbeit-niedersachsen.de
SUMMARY:29. landesweiter Fachaustausch der LAG OKJA Niedersachsen
DESCRIPTION:Dieses etablierte Format der LAG OKJA lädt alle Fachkräfte und Engagierte \nin der (Offenen) Kinder- und Jugendarbeit zum Austausch zu den aktuellen Themen im Arbeitsfeld\, in der Kommune und im Land Niedersachsen ein. \nHier werden Informationen weiter gegeben und aktuelle Herausforderungen diskutiert. \nAlle sind herzlich eingeladen. \nhttps://us06web.zoom.us/j/84556110292?pwd=VYvMWGUcBIUEtrFUGlRuHbeq7ihpLb.1 \nMeeting-ID: 845 5611 0292\nKenncode: 101344
URL:https://www.jugendarbeit-niedersachsen.de/event/29-landesweiter-fachaustausch-der-lag-okja-niedersachsen/
LOCATION:ZOOM
END:VEVENT
BEGIN:VEVENT
DTSTART;TZID=Europe/Berlin:20260604T100000
DTEND;TZID=Europe/Berlin:20260604T120000
DTSTAMP:20260425T212121
CREATED:20250807T062656Z
LAST-MODIFIED:20250807T062656Z
UID:2963-1780567200-1780574400@www.jugendarbeit-niedersachsen.de
SUMMARY:AG Schutzkonzepte
DESCRIPTION:Wir treffen uns\, um uns über den Stand der jeweiligen Entwicklung von Schutzkonzepten in der eigenen Arbeit auszutauschen.\nDer Link:\nhttps://us06web.zoom.us/j/83528491330?pwd=BPAynQdm2GS6fGPUkCWTs5YdCwsSVu.1 \nMeeting-ID: 835 2849 1330\nKenncode: 072036 \nWeitere Infos zum Thema findest ihr hier auf der Homepage unter Service>Themen>AG Schutzkonzepte
URL:https://www.jugendarbeit-niedersachsen.de/event/ag-schutzkonzepte-7/
LOCATION:ZOOM
ORGANIZER;CN="LAG OKJA Niedersachsen":MAILTO:info@lag-okja.de
END:VEVENT
BEGIN:VEVENT
DTSTART;VALUE=DATE:20260609
DTEND;VALUE=DATE:20260611
DTSTAMP:20260425T212121
CREATED:20260112T084635Z
LAST-MODIFIED:20260414T071820Z
UID:3179-1780963200-1781135999@www.jugendarbeit-niedersachsen.de
SUMMARY:Fachtag der LAG OKJA "(Kommunal)politische Arbeit und die Zukunft der Jugendarbeit"!
DESCRIPTION:Programm Fachtag LAG OKJA \nDie LAG OKJA lädt zu einem zweitägigen Fachtag zum Thema „Kommunalpolitische Arbeit und die Zukunft der Jugendarbeit“ ein. \nDer Veranstaltungsort ist das Aquarium in der Joachimstraße 8\, 30159 Hannover. Für Übernachtungen ist jede teilnehmende Person selber verantwortlich. \n  \nGeplantes Programm \nDienstag\, 09.06.2026 \n13:00 Uhr: Start der Veranstaltung \nMit einem Vortrag von Luisa Klöckner zum Thema „Politisches Handeln in der Kinder- und Jugendarbeit“ und zwei Workshop Phasen. \nUm 19:00 Uhr wird eine Abendveranstaltung im Künstlerhaus Hannover stattfinden. \n  \nMittwoch\, 10.06.2026 \n10:00 Uhr: Start in den Tag mit Ergebnissicherung und Diskussion. \nDazu wird es einen Abschlussvortrag mit dem Thema „Zukunft der Jugendarbeit- Was ist zu tun? (Arbeitstitel)“ geben. \nUm 12:45 Uhr wird es die Möglichkeit eines gemeinsamen Mittagessens geben. \nAb 13:30 Uhr startet die Mitgliederversammlung der LAG OKJA Niedersachsen e.V. \nEnde der Veranstaltung voraussichtlich gegen 16:30 Uhr. \n  \nKosten 50\,00 € \nDas Angebot enthält keine Übernachtung!
URL:https://www.jugendarbeit-niedersachsen.de/event/fachtag-der-lag-okja-kommunalpolitische-arbeit-und-die-zukunft-der-jugendarbeit-arbeitstitel/
END:VEVENT
BEGIN:VEVENT
DTSTART;TZID=Europe/Berlin:20260610T130000
DTEND;TZID=Europe/Berlin:20260610T170000
DTSTAMP:20260425T212121
CREATED:20260112T084207Z
LAST-MODIFIED:20260226T090102Z
UID:3177-1781096400-1781110800@www.jugendarbeit-niedersachsen.de
SUMMARY:Mitgliederversammlung der LAG OKJA Niedersachsen
DESCRIPTION:Wir laden zur alljährlichen Mitgliederversammlung ein. \nWir Treffern uns in Hannover und machen Euch das Angebot im Vorfeld an einem spannenden Fachtag teilzunehmen.
URL:https://www.jugendarbeit-niedersachsen.de/event/mitgliederversammlung-der-lag-okja-niedersachsen/
ORGANIZER;CN="LAG OKJA Niedersachsen":MAILTO:info@lag-okja.de
END:VEVENT
BEGIN:VEVENT
DTSTART;TZID=Europe/Berlin:20260617T110000
DTEND;TZID=Europe/Berlin:20260617T130000
DTSTAMP:20260425T212121
CREATED:20250807T062229Z
LAST-MODIFIED:20260112T150732Z
UID:2955-1781694000-1781701200@www.jugendarbeit-niedersachsen.de
SUMMARY:Pädagogischer Stammtisch
DESCRIPTION:Dieses Austauschformat wird angeboten von der LAG OKJA in Zusammenarbeit mit dem niedersächsischen Landesjugendamt. \n\nWir laden pädagogische Fachkräfte zu einem Austausch über die alltäglichen pädagogischen Herausforderungen in der Jugendarbeit ein.\nWir bieten die Möglichkeit der kollegialen Beratung von einzelnen Anliegen.\nWir profitieren von den Erfahrungen der Anderen.\nWir entdecken Gemeinsamkeiten und entwickeln positive Handlungsschritte.\n\nhttps://us06web.zoom.us/j/84132625406?pwd=8cazkybiwgLNpbGVq7TM9TR6HhNGUS.1 \nMeeting-ID: 841 3262 5406\nKenncode: 414040
URL:https://www.jugendarbeit-niedersachsen.de/event/paedagogischer-stammtisch-8/
LOCATION:ZOOM
END:VEVENT
BEGIN:VEVENT
DTSTART;TZID=Europe/Berlin:20260618T130000
DTEND;TZID=Europe/Berlin:20260618T143000
DTSTAMP:20260425T212121
CREATED:20260108T133021Z
LAST-MODIFIED:20260108T133852Z
UID:3148-1781787600-1781793000@www.jugendarbeit-niedersachsen.de
SUMMARY:Netzwerk kommunale Jugendbeteiligung
DESCRIPTION:Um Kommunen beim Aufbau von Kinder- und Jugendbeteiligunsgmöglichkeiten zu unterstützen\, hat sich im August 2025 das Netzwerk kommunale Jugendbeteiligung gegründet. Dieses trifft sich online an jedem 3. Donnerstag eines Monats von 13:00 bis 14:30 Uhr. \nNeben thematischen Impulsen und die Beratung konkreter Fragestellungen durch die Mitarbeiter*innen der Fachstelle und weitere Expert*innen\, besteht bei den Treffen die Gelegenheit zum kollegialen Austausch. \nTeilnehmen können sowohl pädagogische Fachkräfte als auch mit dem Thema betraute Mitarbeiter*innen aus den Verwaltungen sowie alle an der Thematik Interessierten. Ein Einstieg ins Netzwerk ist zu jedem beliebigen Zeitpunkt möglich. \nDie wiederkehrenden Zugangsdaten lauten:\nhttps://us06web.zoom.us/j/82480747255?pwd=Cso2DeYRTspRonCC2Cqk7GfAzybVjG.1\nMeeting-ID: 824 8074 7255\nKenncode: 788495
URL:https://www.jugendarbeit-niedersachsen.de/event/netzwerk-kommunale-jugendbeteiligung-10/
END:VEVENT
BEGIN:VEVENT
DTSTART;TZID=Europe/Berlin:20260622T100000
DTEND;TZID=Europe/Berlin:20260622T140000
DTSTAMP:20260425T212121
CREATED:20251215T141236Z
LAST-MODIFIED:20260415T115828Z
UID:3103-1782122400-1782136800@www.jugendarbeit-niedersachsen.de
SUMMARY:Grundprinzipien der OFFENEN Kinder- und Jugendarbeit
DESCRIPTION:Grundprinzipien der Offenen Kinder- und Jugendarbeit \nWas genau zeichnet eigentlich die OFFENE Kinder- und Jugendarbeit aus. \nEine Online-Fortbildung zu den Grundprinzipien der Offenen Kinder und Jugendarbeit. \nDies ist ein Baustein/Modul im Rahmen der Fortbildungsreihe „Qualifizierung Jugendarbeit 2026“
URL:https://www.jugendarbeit-niedersachsen.de/event/grundprinzipien-der-offenen-kinder-und-jugendarbeit/
LOCATION:ZOOM
ORGANIZER;CN="LAG OKJA Niedersachsen":MAILTO:info@lag-okja.de
END:VEVENT
END:VCALENDAR