BEGIN:VCALENDAR
VERSION:2.0
PRODID:-//LAG OKJA - ECPv6.15.18//NONSGML v1.0//EN
CALSCALE:GREGORIAN
METHOD:PUBLISH
X-WR-CALNAME:LAG OKJA
X-ORIGINAL-URL:https://www.jugendarbeit-niedersachsen.de
X-WR-CALDESC:Veranstaltungen für LAG OKJA
REFRESH-INTERVAL;VALUE=DURATION:PT1H
X-Robots-Tag:noindex
X-PUBLISHED-TTL:PT1H
BEGIN:VTIMEZONE
TZID:Europe/Berlin
BEGIN:DAYLIGHT
TZOFFSETFROM:+0100
TZOFFSETTO:+0200
TZNAME:CEST
DTSTART:20250330T010000
END:DAYLIGHT
BEGIN:STANDARD
TZOFFSETFROM:+0200
TZOFFSETTO:+0100
TZNAME:CET
DTSTART:20251026T010000
END:STANDARD
BEGIN:DAYLIGHT
TZOFFSETFROM:+0100
TZOFFSETTO:+0200
TZNAME:CEST
DTSTART:20260329T010000
END:DAYLIGHT
BEGIN:STANDARD
TZOFFSETFROM:+0200
TZOFFSETTO:+0100
TZNAME:CET
DTSTART:20261025T010000
END:STANDARD
BEGIN:DAYLIGHT
TZOFFSETFROM:+0100
TZOFFSETTO:+0200
TZNAME:CEST
DTSTART:20270328T010000
END:DAYLIGHT
BEGIN:STANDARD
TZOFFSETFROM:+0200
TZOFFSETTO:+0100
TZNAME:CET
DTSTART:20271031T010000
END:STANDARD
END:VTIMEZONE
BEGIN:VEVENT
DTSTART;TZID=Europe/Berlin:20261007T180000
DTEND;TZID=Europe/Berlin:20261007T220000
DTSTAMP:20260424T155948
CREATED:20251020T132418Z
LAST-MODIFIED:20260226T090257Z
UID:3064-1791396000-1791410400@www.jugendarbeit-niedersachsen.de
SUMMARY:2. Parlamentarischer Abend der LAG OKJA Niedersachsen in Hannover
DESCRIPTION:Zum zweiten Mal laden wir herzlich alle Mitglieder und Interessierten der LAG OKJA zu einem Parlamentarischen Abend nach Hannover ein. \nDer Parlamentarische Abend ist ein Angebot an die Landespolitik um mit Praktiker*innen der OKJA ins Gespräch zu kommen. \nDie Veranstaltung findet kostenlos in Hannover statt und es gibt neben guten Gesprächen auch gutes Catering. \n 
URL:https://www.jugendarbeit-niedersachsen.de/event/save-the-date-fachtag-politik-und-jugendarbeit/
ORGANIZER;CN="LAG OKJA Niedersachsen":MAILTO:info@lag-okja.de
END:VEVENT
END:VCALENDAR