BEGIN:VCALENDAR
VERSION:2.0
PRODID:-//LAG OKJA - ECPv6.15.18//NONSGML v1.0//EN
CALSCALE:GREGORIAN
METHOD:PUBLISH
X-WR-CALNAME:LAG OKJA
X-ORIGINAL-URL:https://www.jugendarbeit-niedersachsen.de
X-WR-CALDESC:Veranstaltungen für LAG OKJA
REFRESH-INTERVAL;VALUE=DURATION:PT1H
X-Robots-Tag:noindex
X-PUBLISHED-TTL:PT1H
BEGIN:VTIMEZONE
TZID:Europe/Berlin
BEGIN:DAYLIGHT
TZOFFSETFROM:+0100
TZOFFSETTO:+0200
TZNAME:CEST
DTSTART:20250330T010000
END:DAYLIGHT
BEGIN:STANDARD
TZOFFSETFROM:+0200
TZOFFSETTO:+0100
TZNAME:CET
DTSTART:20251026T010000
END:STANDARD
BEGIN:DAYLIGHT
TZOFFSETFROM:+0100
TZOFFSETTO:+0200
TZNAME:CEST
DTSTART:20260329T010000
END:DAYLIGHT
BEGIN:STANDARD
TZOFFSETFROM:+0200
TZOFFSETTO:+0100
TZNAME:CET
DTSTART:20261025T010000
END:STANDARD
BEGIN:DAYLIGHT
TZOFFSETFROM:+0100
TZOFFSETTO:+0200
TZNAME:CEST
DTSTART:20270328T010000
END:DAYLIGHT
BEGIN:STANDARD
TZOFFSETFROM:+0200
TZOFFSETTO:+0100
TZNAME:CET
DTSTART:20271031T010000
END:STANDARD
END:VTIMEZONE
BEGIN:VEVENT
DTSTART;VALUE=DATE:20260817
DTEND;VALUE=DATE:20260819
DTSTAMP:20260423T160132
CREATED:20251020T132749Z
LAST-MODIFIED:20251020T132749Z
UID:3066-1786924800-1787097599@www.jugendarbeit-niedersachsen.de
SUMMARY:Fachtag Kinder- und Jugendbeteiligung Niedersachsen
DESCRIPTION:Zum dritten Mal findet in Zusammenarbeit mit der LAG Jugendbeteiligung Niedersachen und mit und in der HÖP in Papenburg der Fachtag zum Thema Kinder- und Jugendbeteiligung in Niedersachsen statt. \nProgramm folgt. \nEs gibt viel Raum zum Austausch und voneinander lernen!
URL:https://www.jugendarbeit-niedersachsen.de/event/fachtag-kinder-und-jugendbeteiligung-niedersachsen/
LOCATION:Historisch-Ökologische Bildungsstätte Papenburg\, Spillmannsweg 30\, Papenburg\, Niedersachsen\, 26871\, Deutschland
ORGANIZER;CN="Fachstelle Kinder- und Jugendbeteiligung Niedersachsen":MAILTO:info@lag-okja.de
END:VEVENT
END:VCALENDAR