BEGIN:VCALENDAR
VERSION:2.0
PRODID:-//LAG OKJA - ECPv6.15.18//NONSGML v1.0//EN
CALSCALE:GREGORIAN
METHOD:PUBLISH
X-WR-CALNAME:LAG OKJA
X-ORIGINAL-URL:https://www.jugendarbeit-niedersachsen.de
X-WR-CALDESC:Veranstaltungen für LAG OKJA
REFRESH-INTERVAL;VALUE=DURATION:PT1H
X-Robots-Tag:noindex
X-PUBLISHED-TTL:PT1H
BEGIN:VTIMEZONE
TZID:Europe/Berlin
BEGIN:DAYLIGHT
TZOFFSETFROM:+0100
TZOFFSETTO:+0200
TZNAME:CEST
DTSTART:20250330T010000
END:DAYLIGHT
BEGIN:STANDARD
TZOFFSETFROM:+0200
TZOFFSETTO:+0100
TZNAME:CET
DTSTART:20251026T010000
END:STANDARD
BEGIN:DAYLIGHT
TZOFFSETFROM:+0100
TZOFFSETTO:+0200
TZNAME:CEST
DTSTART:20260329T010000
END:DAYLIGHT
BEGIN:STANDARD
TZOFFSETFROM:+0200
TZOFFSETTO:+0100
TZNAME:CET
DTSTART:20261025T010000
END:STANDARD
BEGIN:DAYLIGHT
TZOFFSETFROM:+0100
TZOFFSETTO:+0200
TZNAME:CEST
DTSTART:20270328T010000
END:DAYLIGHT
BEGIN:STANDARD
TZOFFSETFROM:+0200
TZOFFSETTO:+0100
TZNAME:CET
DTSTART:20271031T010000
END:STANDARD
END:VTIMEZONE
BEGIN:VEVENT
DTSTART;TZID=Europe/Berlin:20261124T110000
DTEND;TZID=Europe/Berlin:20261124T130000
DTSTAMP:20260420T041330
CREATED:20251020T131758Z
LAST-MODIFIED:20260408T143409Z
UID:3058-1795518000-1795525200@www.jugendarbeit-niedersachsen.de
SUMMARY:31. landesweiter Fachaustausch der LAG OKJA Niedersachsen
DESCRIPTION:Dieses etablierte Format der LAG OKJA lädt alle Fachkräfte und Engagierte \nin der (Offenen) Kinder- und Jugendarbeit zum Austausch zu den aktuellen Themen im Arbeitsfeld\, in der Kommune und im Land Niedersachsen ein. \nHier werden Informationen weiter gegeben und aktuelle Herausforderungen diskutiert. \nAlle sind herzlich eingeladen. \nhttps://us06web.zoom.us/j/84556110292?pwd=VYvMWGUcBIUEtrFUGlRuHbeq7ihpLb.1 \nMeeting-ID: 845 5611 0292\nKenncode: 101344
URL:https://www.jugendarbeit-niedersachsen.de/event/31-landesweiter-fachaustausch-der-lag-okja-niedersachsen/
LOCATION:ZOOM
ORGANIZER;CN="LAG OKJA Niedersachsen":MAILTO:info@lag-okja.de
END:VEVENT
END:VCALENDAR